BEGIN:VCALENDAR
VERSION:2.0
PRODID:-//Top Shot Maryland, LLC - ECPv6.15.20//NONSGML v1.0//EN
CALSCALE:GREGORIAN
METHOD:PUBLISH
X-WR-CALNAME:Top Shot Maryland, LLC
X-ORIGINAL-URL:https://www.topshotmaryland.com
X-WR-CALDESC:Events for Top Shot Maryland, LLC
REFRESH-INTERVAL;VALUE=DURATION:PT1H
X-Robots-Tag:noindex
X-PUBLISHED-TTL:PT1H
BEGIN:VTIMEZONE
TZID:America/New_York
BEGIN:DAYLIGHT
TZOFFSETFROM:-0500
TZOFFSETTO:-0400
TZNAME:EDT
DTSTART:20250309T070000
END:DAYLIGHT
BEGIN:STANDARD
TZOFFSETFROM:-0400
TZOFFSETTO:-0500
TZNAME:EST
DTSTART:20251102T060000
END:STANDARD
BEGIN:DAYLIGHT
TZOFFSETFROM:-0500
TZOFFSETTO:-0400
TZNAME:EDT
DTSTART:20260308T070000
END:DAYLIGHT
BEGIN:STANDARD
TZOFFSETFROM:-0400
TZOFFSETTO:-0500
TZNAME:EST
DTSTART:20261101T060000
END:STANDARD
BEGIN:DAYLIGHT
TZOFFSETFROM:-0500
TZOFFSETTO:-0400
TZNAME:EDT
DTSTART:20270314T070000
END:DAYLIGHT
BEGIN:STANDARD
TZOFFSETFROM:-0400
TZOFFSETTO:-0500
TZNAME:EST
DTSTART:20271107T060000
END:STANDARD
END:VTIMEZONE
BEGIN:VEVENT
DTSTART;TZID=America/New_York:20260803T090000
DTEND;TZID=America/New_York:20260803T150000
DTSTAMP:20260419T234454
CREATED:20260416T013154Z
LAST-MODIFIED:20260416T013213Z
UID:10000453-1785747600-1785769200@www.topshotmaryland.com
SUMMARY:2026 Summer Shooting Camp for Kids
DESCRIPTION:Thank you for your interest in our 2026 Summer Shooting Camp for Kids.  Our shooting camp takes place over five days where students will be taught how to safely shoot handguns\, rifles\, and shotguns.  There is a strong emphasis on safety throughout the entire summer camp.  Students will be taught exactly what to do if they every encounter a firearm.  The concept of safety is discussed every single day of the summer camp and there are parts of the curriculum specifically designed to help students develop their safety consciousness while becoming safe young shooters.  An instructor will be working one-on-one with every single student whenever they are handling a firearm. \nClasses begin at 9:00am and finish at 3:00pm Monday through Friday.  Monday and Wednesday will be in the classroom.  Tuesday and Thursday will start at the range and then we will return to the classroom after everyone has shot.  The first part of Friday will begin in the classroom\, and we will finish the day by shooting at the range.  Students will receive the NRA Basics of Pistol Shooting Handbook\, the NRA Basics of Rifle Shooting Handbook\, the NRA Basics of Shotgun Shooting Handbook\, the NRA Marksmanship Qualification Program Booklet\, and the NRA Gun Safety Rules card. \nAt the completion of the summer camp students will receive their NRA Basics of Pistol Shooting Certificate\, NRA Basic Rifle Shooting Course Certificate\, and their NRA Basic Shotgun Shooting Course Certificate. \nThe fee for the summer camp is $500 class fee\, $90 range fee for the pistol\, rifle\, and shotgun ranges\, $75.00 ammunition fee\, and a $10.00 processing fee = $675.00.  Please make your payment below.  If you have any questions\, please call Eric at (410)493-0625.Summer Shooting Camp for Kids\n		\n		\n						\n				Billing Address			\n			\n						\n				\n\n		\n		\n\n		\n		\n			\n		\n			\n				Phone							\n		\n\n					\n				\n			\n		\n\n					\n			\n					\n				\n		\n			\n				Email Address							\n		\n\n						\n					\n				\n			\n		\n		\n		\n			\n				\n					Choose Payment				\n			\n\n			\n				\n									\n													\n							\n							100% Payment for the Summer Shooting Camp for Kids (Price includes $500 class fee\, $90 range fee for the pistol\, rifle\, and shotgun ranges\, $75.00 ammunition fee\, and $10.00 processing fee = $675.00)						\n											\n									\n													\n							\n							50% Payment for the Summer Shooting Camp for Kids (Price includes $500 class fee\, $90 range fee for the pistol\, rifle\, and shotgun ranges\, $75.00 ammunition fee\, and $10.00 processing fee = $675.00)						\n											\n								\n			\n		\n\n		\n        \n                        \n		\n		\n\n			        \n\n\n		\n\n		\n		\n			\n				\n					Please wait...
URL:https://www.topshotmaryland.com/event/2025_summer_shooting_camp_for_kids_08_03_26-2/
LOCATION:Top Shot Maryland\, LLC\, 48 Thornhill Road\, Lutherville Timonium\, MD\, 21093\, United States
GEO:39.4232633;-76.6121359
X-APPLE-STRUCTURED-LOCATION;VALUE=URI;X-ADDRESS=Top Shot Maryland LLC 48 Thornhill Road Lutherville Timonium MD 21093 United States;X-APPLE-RADIUS=500;X-TITLE=48 Thornhill Road:geo:-76.6121359,39.4232633
END:VEVENT
BEGIN:VEVENT
DTSTART;TZID=America/New_York:20260804T090000
DTEND;TZID=America/New_York:20260804T150000
DTSTAMP:20260419T234454
CREATED:20260416T013337Z
LAST-MODIFIED:20260416T013337Z
UID:10000458-1785834000-1785855600@www.topshotmaryland.com
SUMMARY:2026 Summer Shooting Camp for Kids
DESCRIPTION:Thank you for your interest in our 2026 Summer Shooting Camp for Kids.  Our shooting camp takes place over five days where students will be taught how to safely shoot handguns\, rifles\, and shotguns.  There is a strong emphasis on safety throughout the entire summer camp.  Students will be taught exactly what to do if they every encounter a firearm.  The concept of safety is discussed every single day of the summer camp and there are parts of the curriculum specifically designed to help students develop their safety consciousness while becoming safe young shooters.  An instructor will be working one-on-one with every single student whenever they are handling a firearm. \nClasses begin at 9:00am and finish at 3:00pm Monday through Friday.  Monday and Wednesday will be in the classroom.  Tuesday and Thursday will start at the range and then we will return to the classroom after everyone has shot.  The first part of Friday will begin in the classroom\, and we will finish the day by shooting at the range.  Students will receive the NRA Basics of Pistol Shooting Handbook\, the NRA Basics of Rifle Shooting Handbook\, the NRA Basics of Shotgun Shooting Handbook\, the NRA Marksmanship Qualification Program Booklet\, and the NRA Gun Safety Rules card. \nAt the completion of the summer camp students will receive their NRA Basics of Pistol Shooting Certificate\, NRA Basic Rifle Shooting Course Certificate\, and their NRA Basic Shotgun Shooting Course Certificate. \nThe fee for the summer camp is $500 class fee\, $90 range fee for the pistol\, rifle\, and shotgun ranges\, $75.00 ammunition fee\, and a $10.00 processing fee = $675.00.  Please make your payment below.  If you have any questions\, please call Eric at (410)493-0625.Summer Shooting Camp for Kids\n		\n		\n						\n				Billing Address			\n			\n						\n				\n\n		\n		\n\n		\n		\n			\n		\n			\n				Phone							\n		\n\n					\n				\n			\n		\n\n					\n			\n					\n				\n		\n			\n				Email Address							\n		\n\n						\n					\n				\n			\n		\n		\n		\n			\n				\n					Choose Payment				\n			\n\n			\n				\n									\n													\n							\n							100% Payment for the Summer Shooting Camp for Kids (Price includes $500 class fee\, $90 range fee for the pistol\, rifle\, and shotgun ranges\, $75.00 ammunition fee\, and $10.00 processing fee = $675.00)						\n											\n									\n													\n							\n							50% Payment for the Summer Shooting Camp for Kids (Price includes $500 class fee\, $90 range fee for the pistol\, rifle\, and shotgun ranges\, $75.00 ammunition fee\, and $10.00 processing fee = $675.00)						\n											\n								\n			\n		\n\n		\n        \n                        \n		\n		\n\n			        \n\n\n		\n\n		\n		\n			\n				\n					Please wait...
URL:https://www.topshotmaryland.com/event/2026_summer_shooting_camp_for_kids_08_04_26/
LOCATION:Top Shot Maryland\, LLC\, 48 Thornhill Road\, Lutherville Timonium\, MD\, 21093\, United States
GEO:39.4232633;-76.6121359
X-APPLE-STRUCTURED-LOCATION;VALUE=URI;X-ADDRESS=Top Shot Maryland LLC 48 Thornhill Road Lutherville Timonium MD 21093 United States;X-APPLE-RADIUS=500;X-TITLE=48 Thornhill Road:geo:-76.6121359,39.4232633
END:VEVENT
BEGIN:VEVENT
DTSTART;TZID=America/New_York:20260805T090000
DTEND;TZID=America/New_York:20260805T150000
DTSTAMP:20260419T234454
CREATED:20260416T013751Z
LAST-MODIFIED:20260416T013751Z
UID:10000459-1785920400-1785942000@www.topshotmaryland.com
SUMMARY:2026 Summer Shooting Camp for Kids
DESCRIPTION:Thank you for your interest in our 2026 Summer Shooting Camp for Kids.  Our shooting camp takes place over five days where students will be taught how to safely shoot handguns\, rifles\, and shotguns.  There is a strong emphasis on safety throughout the entire summer camp.  Students will be taught exactly what to do if they every encounter a firearm.  The concept of safety is discussed every single day of the summer camp and there are parts of the curriculum specifically designed to help students develop their safety consciousness while becoming safe young shooters.  An instructor will be working one-on-one with every single student whenever they are handling a firearm. \nClasses begin at 9:00am and finish at 3:00pm Monday through Friday.  Monday and Wednesday will be in the classroom.  Tuesday and Thursday will start at the range and then we will return to the classroom after everyone has shot.  The first part of Friday will begin in the classroom\, and we will finish the day by shooting at the range.  Students will receive the NRA Basics of Pistol Shooting Handbook\, the NRA Basics of Rifle Shooting Handbook\, the NRA Basics of Shotgun Shooting Handbook\, the NRA Marksmanship Qualification Program Booklet\, and the NRA Gun Safety Rules card. \nAt the completion of the summer camp students will receive their NRA Basics of Pistol Shooting Certificate\, NRA Basic Rifle Shooting Course Certificate\, and their NRA Basic Shotgun Shooting Course Certificate. \nThe fee for the summer camp is $500 class fee\, $90 range fee for the pistol\, rifle\, and shotgun ranges\, $75.00 ammunition fee\, and a $10.00 processing fee = $675.00.  Please make your payment below.  If you have any questions\, please call Eric at (410)493-0625.Summer Shooting Camp for Kids\n		\n		\n						\n				Billing Address			\n			\n						\n				\n\n		\n		\n\n		\n		\n			\n		\n			\n				Phone							\n		\n\n					\n				\n			\n		\n\n					\n			\n					\n				\n		\n			\n				Email Address							\n		\n\n						\n					\n				\n			\n		\n		\n		\n			\n				\n					Choose Payment				\n			\n\n			\n				\n									\n													\n							\n							100% Payment for the Summer Shooting Camp for Kids (Price includes $500 class fee\, $90 range fee for the pistol\, rifle\, and shotgun ranges\, $75.00 ammunition fee\, and $10.00 processing fee = $675.00)						\n											\n									\n													\n							\n							50% Payment for the Summer Shooting Camp for Kids (Price includes $500 class fee\, $90 range fee for the pistol\, rifle\, and shotgun ranges\, $75.00 ammunition fee\, and $10.00 processing fee = $675.00)						\n											\n								\n			\n		\n\n		\n        \n                        \n		\n		\n\n			        \n\n\n		\n\n		\n		\n			\n				\n					Please wait...
URL:https://www.topshotmaryland.com/event/2026_summer_shooting_camp_for_kids_08_05_26/
LOCATION:Top Shot Maryland\, LLC\, 48 Thornhill Road\, Lutherville Timonium\, MD\, 21093\, United States
GEO:39.4232633;-76.6121359
X-APPLE-STRUCTURED-LOCATION;VALUE=URI;X-ADDRESS=Top Shot Maryland LLC 48 Thornhill Road Lutherville Timonium MD 21093 United States;X-APPLE-RADIUS=500;X-TITLE=48 Thornhill Road:geo:-76.6121359,39.4232633
END:VEVENT
BEGIN:VEVENT
DTSTART;TZID=America/New_York:20260806T090000
DTEND;TZID=America/New_York:20260806T150000
DTSTAMP:20260419T234454
CREATED:20260416T013944Z
LAST-MODIFIED:20260416T013944Z
UID:10000460-1786006800-1786028400@www.topshotmaryland.com
SUMMARY:2026 Summer Shooting Camp for Kids
DESCRIPTION:Thank you for your interest in our 2026 Summer Shooting Camp for Kids.  Our shooting camp takes place over five days where students will be taught how to safely shoot handguns\, rifles\, and shotguns.  There is a strong emphasis on safety throughout the entire summer camp.  Students will be taught exactly what to do if they every encounter a firearm.  The concept of safety is discussed every single day of the summer camp and there are parts of the curriculum specifically designed to help students develop their safety consciousness while becoming safe young shooters.  An instructor will be working one-on-one with every single student whenever they are handling a firearm. \nClasses begin at 9:00am and finish at 3:00pm Monday through Friday.  Monday and Wednesday will be in the classroom.  Tuesday and Thursday will start at the range and then we will return to the classroom after everyone has shot.  The first part of Friday will begin in the classroom\, and we will finish the day by shooting at the range.  Students will receive the NRA Basics of Pistol Shooting Handbook\, the NRA Basics of Rifle Shooting Handbook\, the NRA Basics of Shotgun Shooting Handbook\, the NRA Marksmanship Qualification Program Booklet\, and the NRA Gun Safety Rules card. \nAt the completion of the summer camp students will receive their NRA Basics of Pistol Shooting Certificate\, NRA Basic Rifle Shooting Course Certificate\, and their NRA Basic Shotgun Shooting Course Certificate. \nThe fee for the summer camp is $500 class fee\, $90 range fee for the pistol\, rifle\, and shotgun ranges\, $75.00 ammunition fee\, and a $10.00 processing fee = $675.00.  Please make your payment below.  If you have any questions\, please call Eric at (410)493-0625.Summer Shooting Camp for Kids\n		\n		\n						\n				Billing Address			\n			\n						\n				\n\n		\n		\n\n		\n		\n			\n		\n			\n				Phone							\n		\n\n					\n				\n			\n		\n\n					\n			\n					\n				\n		\n			\n				Email Address							\n		\n\n						\n					\n				\n			\n		\n		\n		\n			\n				\n					Choose Payment				\n			\n\n			\n				\n									\n													\n							\n							100% Payment for the Summer Shooting Camp for Kids (Price includes $500 class fee\, $90 range fee for the pistol\, rifle\, and shotgun ranges\, $75.00 ammunition fee\, and $10.00 processing fee = $675.00)						\n											\n									\n													\n							\n							50% Payment for the Summer Shooting Camp for Kids (Price includes $500 class fee\, $90 range fee for the pistol\, rifle\, and shotgun ranges\, $75.00 ammunition fee\, and $10.00 processing fee = $675.00)						\n											\n								\n			\n		\n\n		\n        \n                        \n		\n		\n\n			        \n\n\n		\n\n		\n		\n			\n				\n					Please wait...
URL:https://www.topshotmaryland.com/event/2026_summer_shooting_camp_for_kids_08_06_26/
LOCATION:Top Shot Maryland\, LLC\, 48 Thornhill Road\, Lutherville Timonium\, MD\, 21093\, United States
GEO:39.4232633;-76.6121359
X-APPLE-STRUCTURED-LOCATION;VALUE=URI;X-ADDRESS=Top Shot Maryland LLC 48 Thornhill Road Lutherville Timonium MD 21093 United States;X-APPLE-RADIUS=500;X-TITLE=48 Thornhill Road:geo:-76.6121359,39.4232633
END:VEVENT
BEGIN:VEVENT
DTSTART;TZID=America/New_York:20260807T090000
DTEND;TZID=America/New_York:20260807T150000
DTSTAMP:20260419T234454
CREATED:20260416T014149Z
LAST-MODIFIED:20260416T014149Z
UID:10000461-1786093200-1786114800@www.topshotmaryland.com
SUMMARY:2026 Summer Shooting Camp for Kids
DESCRIPTION:Thank you for your interest in our 2026 Summer Shooting Camp for Kids.  Our shooting camp takes place over five days where students will be taught how to safely shoot handguns\, rifles\, and shotguns.  There is a strong emphasis on safety throughout the entire summer camp.  Students will be taught exactly what to do if they every encounter a firearm.  The concept of safety is discussed every single day of the summer camp and there are parts of the curriculum specifically designed to help students develop their safety consciousness while becoming safe young shooters.  An instructor will be working one-on-one with every single student whenever they are handling a firearm. \nClasses begin at 9:00am and finish at 3:00pm Monday through Friday.  Monday and Wednesday will be in the classroom.  Tuesday and Thursday will start at the range and then we will return to the classroom after everyone has shot.  The first part of Friday will begin in the classroom\, and we will finish the day by shooting at the range.  Students will receive the NRA Basics of Pistol Shooting Handbook\, the NRA Basics of Rifle Shooting Handbook\, the NRA Basics of Shotgun Shooting Handbook\, the NRA Marksmanship Qualification Program Booklet\, and the NRA Gun Safety Rules card. \nAt the completion of the summer camp students will receive their NRA Basics of Pistol Shooting Certificate\, NRA Basic Rifle Shooting Course Certificate\, and their NRA Basic Shotgun Shooting Course Certificate. \nThe fee for the summer camp is $500 class fee\, $90 range fee for the pistol\, rifle\, and shotgun ranges\, $75.00 ammunition fee\, and a $10.00 processing fee = $675.00.  Please make your payment below.  If you have any questions\, please call Eric at (410)493-0625.Summer Shooting Camp for Kids\n		\n		\n						\n				Billing Address			\n			\n						\n				\n\n		\n		\n\n		\n		\n			\n		\n			\n				Phone							\n		\n\n					\n				\n			\n		\n\n					\n			\n					\n				\n		\n			\n				Email Address							\n		\n\n						\n					\n				\n			\n		\n		\n		\n			\n				\n					Choose Payment				\n			\n\n			\n				\n									\n													\n							\n							100% Payment for the Summer Shooting Camp for Kids (Price includes $500 class fee\, $90 range fee for the pistol\, rifle\, and shotgun ranges\, $75.00 ammunition fee\, and $10.00 processing fee = $675.00)						\n											\n									\n													\n							\n							50% Payment for the Summer Shooting Camp for Kids (Price includes $500 class fee\, $90 range fee for the pistol\, rifle\, and shotgun ranges\, $75.00 ammunition fee\, and $10.00 processing fee = $675.00)						\n											\n								\n			\n		\n\n		\n        \n                        \n		\n		\n\n			        \n\n\n		\n\n		\n		\n			\n				\n					Please wait...
URL:https://www.topshotmaryland.com/event/2026_summer_shooting_camp_for_kids_08_07_26/
LOCATION:Top Shot Maryland\, LLC\, 48 Thornhill Road\, Lutherville Timonium\, MD\, 21093\, United States
GEO:39.4232633;-76.6121359
X-APPLE-STRUCTURED-LOCATION;VALUE=URI;X-ADDRESS=Top Shot Maryland LLC 48 Thornhill Road Lutherville Timonium MD 21093 United States;X-APPLE-RADIUS=500;X-TITLE=48 Thornhill Road:geo:-76.6121359,39.4232633
END:VEVENT
END:VCALENDAR